Package: methylGSA Version: 1.28.0 Command: /home/biocbuild/bbs-3.22-bioc/R/bin/R CMD INSTALL methylGSA StartedAt: 2025-11-16 16:10:46 -0500 (Sun, 16 Nov 2025) EndedAt: 2025-11-16 16:11:31 -0500 (Sun, 16 Nov 2025) EllapsedTime: 45.3 seconds RetCode: 0 Status: OK