Package: methylCC Version: 1.24.0 Command: /home/biocbuild/bbs-3.22-bioc/R/bin/R CMD INSTALL methylCC StartedAt: 2025-11-17 17:58:52 -0500 (Mon, 17 Nov 2025) EndedAt: 2025-11-17 17:59:08 -0500 (Mon, 17 Nov 2025) EllapsedTime: 15.9 seconds RetCode: 1 Status: ERROR