Package: methylCC Version: 1.24.0 Command: /home/biocbuild/bbs-3.22-bioc/R/bin/R CMD build --keep-empty-dirs --no-resave-data --md5 methylCC StartedAt: 2025-11-17 21:58:04 -0500 (Mon, 17 Nov 2025) EndedAt: 2025-11-17 21:58:19 -0500 (Mon, 17 Nov 2025) EllapsedTime: 15.0 seconds RetCode: 1 Status: ERROR PackageFile: None PackageFileSize: NA