Package: methrix Version: 1.23.1 Command: /home/biocbuild/bbs-3.22-bioc/R/bin/R CMD INSTALL methrix StartedAt: 2025-10-06 15:33:25 -0400 (Mon, 06 Oct 2025) EndedAt: 2025-10-06 15:34:05 -0400 (Mon, 06 Oct 2025) EllapsedTime: 40.0 seconds RetCode: 0 Status: OK