Package: methrix Version: 1.23.1 Command: /home/biocbuild/bbs-3.22-bioc/R/bin/R CMD build --keep-empty-dirs --no-resave-data --md5 methrix StartedAt: 2025-10-06 18:32:46 -0400 (Mon, 06 Oct 2025) EndedAt: 2025-10-06 18:36:30 -0400 (Mon, 06 Oct 2025) EllapsedTime: 223.1 seconds RetCode: 0 Status: OK PackageFile: methrix_1.23.1.tar.gz PackageFileSize: 3.996 MiB