Package: methrix Version: 1.24.0 Command: /Library/Frameworks/R.framework/Resources/bin/R CMD INSTALL methrix StartedAt: 2025-11-10 15:18:20 -0500 (Mon, 10 Nov 2025) EndedAt: 2025-11-10 15:18:37 -0500 (Mon, 10 Nov 2025) EllapsedTime: 17.5 seconds RetCode: 0 Status: OK