Package: methrix Version: 1.24.0 Command: /Library/Frameworks/R.framework/Resources/bin/R CMD build --keep-empty-dirs --no-resave-data methrix StartedAt: 2025-11-10 16:57:57 -0500 (Mon, 10 Nov 2025) EndedAt: 2025-11-10 16:59:43 -0500 (Mon, 10 Nov 2025) EllapsedTime: 106.2 seconds RetCode: 0 Status: OK PackageFile: methrix_1.24.0.tar.gz PackageFileSize: 4.077 MiB