Package: methodical Version: 1.6.0 Command: /Library/Frameworks/R.framework/Resources/bin/R CMD INSTALL methodical StartedAt: 2025-11-10 15:22:12 -0500 (Mon, 10 Nov 2025) EndedAt: 2025-11-10 15:22:30 -0500 (Mon, 10 Nov 2025) EllapsedTime: 17.2 seconds RetCode: 0 Status: OK