Package: methodical Version: 1.6.0 Command: /Library/Frameworks/R.framework/Resources/bin/R CMD build --keep-empty-dirs --no-resave-data methodical StartedAt: 2025-11-10 16:57:29 -0500 (Mon, 10 Nov 2025) EndedAt: 2025-11-10 17:03:53 -0500 (Mon, 10 Nov 2025) EllapsedTime: 384.3 seconds RetCode: 0 Status: OK PackageFile: methodical_1.6.0.tar.gz PackageFileSize: 5.018 MiB