Package: methodical Version: 1.6.0 Command: rm -rf methodical.buildbin-libdir && mkdir methodical.buildbin-libdir && /Users/biocbuild/BBS/utils/build-universal.sh methodical_1.6.0.tar.gz /Library/Frameworks/R.framework/Resources/bin/R methodical.buildbin-libdir StartedAt: 2025-11-10 23:26:17 -0500 (Mon, 10 Nov 2025) EndedAt: 2025-11-10 23:26:31 -0500 (Mon, 10 Nov 2025) EllapsedTime: 14.2 seconds RetCode: 0 Status: OK PackageFile: methodical_1.6.0.tgz PackageFileSize: 4.989 MiB