Package: methInheritSim Version: 1.32.0 Command: /Library/Frameworks/R.framework/Resources/bin/R CMD INSTALL methInheritSim StartedAt: 2025-11-03 15:35:58 -0500 (Mon, 03 Nov 2025) EndedAt: 2025-11-03 15:36:48 -0500 (Mon, 03 Nov 2025) EllapsedTime: 50.3 seconds RetCode: 0 Status: OK