Package: methInheritSim Version: 1.32.0 Command: /Library/Frameworks/R.framework/Resources/bin/R CMD build --keep-empty-dirs --no-resave-data methInheritSim StartedAt: 2025-11-03 17:40:51 -0500 (Mon, 03 Nov 2025) EndedAt: 2025-11-03 17:42:09 -0500 (Mon, 03 Nov 2025) EllapsedTime: 77.6 seconds RetCode: 0 Status: OK PackageFile: methInheritSim_1.32.0.tar.gz PackageFileSize: 1.117 MiB