Package: methInheritSim Version: 1.32.0 Command: rm -rf methInheritSim.buildbin-libdir && mkdir methInheritSim.buildbin-libdir && /Users/biocbuild/BBS/utils/build-universal.sh methInheritSim_1.32.0.tar.gz /Library/Frameworks/R.framework/Resources/bin/R methInheritSim.buildbin-libdir StartedAt: 2025-11-04 01:49:01 -0500 (Tue, 04 Nov 2025) EndedAt: 2025-11-04 01:49:58 -0500 (Tue, 04 Nov 2025) EllapsedTime: 57.4 seconds RetCode: 0 Status: OK PackageFile: methInheritSim_1.32.0.tgz PackageFileSize: 719.4 KiB