Package: metaseqR2 Version: 1.22.0 Command: /home/biocbuild/bbs-3.22-bioc/R/bin/R CMD INSTALL metaseqR2 StartedAt: 2025-11-14 15:55:47 -0500 (Fri, 14 Nov 2025) EndedAt: 2025-11-14 15:57:00 -0500 (Fri, 14 Nov 2025) EllapsedTime: 73.6 seconds RetCode: 0 Status: OK