| Back to Multiple platform build/check report for BioC 3.22: simplified long |
|
This page was generated on 2025-11-01 12:04 -0400 (Sat, 01 Nov 2025).
| Hostname | OS | Arch (*) | R version | Installed pkgs |
|---|---|---|---|---|
| nebbiolo2 | Linux (Ubuntu 24.04.3 LTS) | x86_64 | 4.5.1 Patched (2025-08-23 r88802) -- "Great Square Root" | 4901 |
| lconway | macOS 12.7.6 Monterey | x86_64 | 4.5.1 Patched (2025-09-10 r88807) -- "Great Square Root" | 4691 |
| kjohnson3 | macOS 13.7.7 Ventura | arm64 | 4.5.1 Patched (2025-09-10 r88807) -- "Great Square Root" | 4637 |
| Click on any hostname to see more info about the system (e.g. compilers) (*) as reported by 'uname -p', except on Windows and Mac OS X | ||||
| Package 1249/2361 | Hostname | OS / Arch | INSTALL | BUILD | CHECK | BUILD BIN | ||||||||
| metagenomeSeq 1.52.0 (landing page) Joseph N. Paulson
| nebbiolo2 | Linux (Ubuntu 24.04.3 LTS) / x86_64 | OK | OK | OK | |||||||||
| lconway | macOS 12.7.6 Monterey / x86_64 | OK | OK | OK | OK | |||||||||
| kjohnson3 | macOS 13.7.7 Ventura / arm64 | OK | OK | OK | OK | |||||||||
|
To the developers/maintainers of the metagenomeSeq package: - Allow up to 24 hours (and sometimes 48 hours) for your latest push to git@git.bioconductor.org:packages/metagenomeSeq.git to reflect on this report. See Troubleshooting Build Report for more information. - Use the following Renviron settings to reproduce errors and warnings. - If 'R CMD check' started to fail recently on the Linux builder(s) over a missing dependency, add the missing dependency to 'Suggests:' in your DESCRIPTION file. See Renviron.bioc for more information. |
| Package: metagenomeSeq |
| Version: 1.52.0 |
| Command: /Library/Frameworks/R.framework/Resources/bin/R CMD check --install=check:metagenomeSeq.install-out.txt --library=/Library/Frameworks/R.framework/Resources/library --no-vignettes --timings metagenomeSeq_1.52.0.tar.gz |
| StartedAt: 2025-10-31 22:20:23 -0400 (Fri, 31 Oct 2025) |
| EndedAt: 2025-10-31 22:24:29 -0400 (Fri, 31 Oct 2025) |
| EllapsedTime: 245.7 seconds |
| RetCode: 0 |
| Status: OK |
| CheckDir: metagenomeSeq.Rcheck |
| Warnings: 0 |
##############################################################################
##############################################################################
###
### Running command:
###
### /Library/Frameworks/R.framework/Resources/bin/R CMD check --install=check:metagenomeSeq.install-out.txt --library=/Library/Frameworks/R.framework/Resources/library --no-vignettes --timings metagenomeSeq_1.52.0.tar.gz
###
##############################################################################
##############################################################################
* using log directory ‘/Users/biocbuild/bbs-3.22-bioc/meat/metagenomeSeq.Rcheck’
* using R version 4.5.1 Patched (2025-09-10 r88807)
* using platform: x86_64-apple-darwin20
* R was compiled by
Apple clang version 14.0.0 (clang-1400.0.29.202)
GNU Fortran (GCC) 14.2.0
* running under: macOS Monterey 12.7.6
* using session charset: UTF-8
* using option ‘--no-vignettes’
* checking for file ‘metagenomeSeq/DESCRIPTION’ ... OK
* this is package ‘metagenomeSeq’ version ‘1.52.0’
* checking package namespace information ... OK
* checking package dependencies ... OK
* checking if this is a source package ... OK
* checking if there is a namespace ... OK
* checking for hidden files and directories ... OK
* checking for portable file names ... OK
* checking for sufficient/correct file permissions ... OK
* checking whether package ‘metagenomeSeq’ can be installed ... OK
* checking installed package size ... OK
* checking package directory ... OK
* checking ‘build’ directory ... OK
* checking DESCRIPTION meta-information ... OK
* checking top-level files ... OK
* checking for left-over files ... OK
* checking index information ... OK
* checking package subdirectories ... OK
* checking code files for non-ASCII characters ... OK
* checking R files for syntax errors ... OK
* checking whether the package can be loaded ... OK
* checking whether the package can be loaded with stated dependencies ... OK
* checking whether the package can be unloaded cleanly ... OK
* checking whether the namespace can be loaded with stated dependencies ... OK
* checking whether the namespace can be unloaded cleanly ... OK
* checking dependencies in R code ... OK
* checking S3 generic/method consistency ... OK
* checking replacement functions ... OK
* checking foreign function calls ... OK
* checking R code for possible problems ... OK
* checking Rd files ... OK
* checking Rd metadata ... OK
* checking Rd cross-references ... OK
* checking for missing documentation entries ... OK
* checking for code/documentation mismatches ... OK
* checking Rd \usage sections ... OK
* checking Rd contents ... OK
* checking for unstated dependencies in examples ... OK
* checking contents of ‘data’ directory ... OK
* checking data for non-ASCII characters ... OK
* checking data for ASCII and uncompressed saves ... OK
* checking sizes of PDF files under ‘inst/doc’ ... OK
* checking files in ‘vignettes’ ... OK
* checking examples ... OK
Examples with CPU (user + system) or elapsed time > 5s
user system elapsed
wrenchNorm 13.138 1.276 14.536
MRfulltable 1.054 0.045 5.856
* checking for unstated dependencies in ‘tests’ ... OK
* checking tests ...
Running ‘testthat.R’
OK
* checking for unstated dependencies in vignettes ... OK
* checking package vignettes ... OK
* checking running R code from vignettes ... SKIPPED
* checking re-building of vignette outputs ... SKIPPED
* checking PDF version of manual ... OK
* DONE
Status: OK
metagenomeSeq.Rcheck/00install.out
############################################################################## ############################################################################## ### ### Running command: ### ### /Library/Frameworks/R.framework/Resources/bin/R CMD INSTALL metagenomeSeq ### ############################################################################## ############################################################################## * installing to library ‘/Library/Frameworks/R.framework/Versions/4.5-x86_64/Resources/library’ * installing *source* package ‘metagenomeSeq’ ... ** this is package ‘metagenomeSeq’ version ‘1.52.0’ ** using staged installation ** R ** data ** inst ** byte-compile and prepare package for lazy loading in method for ‘MRihw’ with signature ‘"fitFeatureModelResults"’: no definition for class “fitFeatureModelResults” in method for ‘MRihw’ with signature ‘"fitZigResults"’: no definition for class “fitZigResults” ** help *** installing help indices ** building package indices ** installing vignettes ** testing if installed package can be loaded from temporary location ** testing if installed package can be loaded from final location ** testing if installed package keeps a record of temporary installation path * DONE (metagenomeSeq)
metagenomeSeq.Rcheck/tests/testthat.Rout
R version 4.5.1 Patched (2025-09-10 r88807) -- "Great Square Root"
Copyright (C) 2025 The R Foundation for Statistical Computing
Platform: x86_64-apple-darwin20
R is free software and comes with ABSOLUTELY NO WARRANTY.
You are welcome to redistribute it under certain conditions.
Type 'license()' or 'licence()' for distribution details.
R is a collaborative project with many contributors.
Type 'contributors()' for more information and
'citation()' on how to cite R or R packages in publications.
Type 'demo()' for some demos, 'help()' for on-line help, or
'help.start()' for an HTML browser interface to help.
Type 'q()' to quit R.
> library("testthat")
> packageVersion("metagenomeSeq")
[1] '1.52.0'
> # As suggested for opt-out option on testing by users,
> # recommended by CRAN: http://adv-r.had.co.nz/Testing.html
> # Previously, best practice was to put all test files in inst/tests
> # and ensure that R CMD check ran them by putting the following code in tests/test-all.R:
> # >library(testthat)
> # >library(yourpackage)
> # >test_package("yourpackage")
> # Now, recommended practice is to put your tests in tests/testthat,
> # and ensure R CMD check runs them by putting the following code in tests/test-all.R:
> # >library(testthat)
> # >test_check("yourpackage")
> # The advantage of this new structure is that the user has control over whether or not tests are installed using the –install-tests parameter to
> # R CMD install, or INSTALL_opts = c(“–install-tests”) argument to install.packages(). I’m not sure why you wouldn’t want to install the tests,
> # but now you have the flexibility as requested by CRAN maintainers.
> test_check("metagenomeSeq")
Loading required package: metagenomeSeq
Loading required package: Biobase
Loading required package: BiocGenerics
Loading required package: generics
Attaching package: 'generics'
The following objects are masked from 'package:base':
as.difftime, as.factor, as.ordered, intersect, is.element, setdiff,
setequal, union
Attaching package: 'BiocGenerics'
The following objects are masked from 'package:stats':
IQR, mad, sd, var, xtabs
The following objects are masked from 'package:base':
Filter, Find, Map, Position, Reduce, anyDuplicated, aperm, append,
as.data.frame, basename, cbind, colnames, dirname, do.call,
duplicated, eval, evalq, get, grep, grepl, is.unsorted, lapply,
mapply, match, mget, order, paste, pmax, pmax.int, pmin, pmin.int,
rank, rbind, rownames, sapply, saveRDS, table, tapply, unique,
unsplit, which.max, which.min
Welcome to Bioconductor
Vignettes contain introductory material; view with
'browseVignettes()'. To cite Bioconductor, see
'citation("Biobase")', and for packages 'citation("pkgname")'.
Loading required package: limma
Attaching package: 'limma'
The following object is masked from 'package:BiocGenerics':
plotMA
Loading required package: glmnet
Loading required package: Matrix
Loaded glmnet 4.1-10
Loading required package: RColorBrewer
[ FAIL 0 | WARN 6 | SKIP 0 | PASS 15 ]
[ FAIL 0 | WARN 6 | SKIP 0 | PASS 15 ]
>
> proc.time()
user system elapsed
86.783 8.124 96.071
metagenomeSeq.Rcheck/metagenomeSeq-Ex.timings
| name | user | system | elapsed | |
| MRcoefs | 1.219 | 0.062 | 1.284 | |
| MRcounts | 0.472 | 0.008 | 0.482 | |
| MRexperiment-class | 0.001 | 0.000 | 0.000 | |
| MRfulltable | 1.054 | 0.045 | 5.856 | |
| MRtable | 0.957 | 0.018 | 0.977 | |
| aggregateBySample | 0.148 | 0.011 | 0.159 | |
| aggregateByTaxonomy | 0.173 | 0.013 | 0.186 | |
| biom2MRexperiment | 0.234 | 0.014 | 0.248 | |
| calcNormFactors | 0.609 | 0.108 | 0.720 | |
| correctIndices | 0.09 | 0.01 | 0.10 | |
| correlationTest | 0.211 | 0.025 | 0.237 | |
| cumNorm | 0.427 | 0.119 | 0.548 | |
| cumNormMat | 0.474 | 0.091 | 0.578 | |
| cumNormStat | 0.616 | 0.064 | 0.681 | |
| cumNormStatFast | 0.306 | 0.034 | 0.341 | |
| expSummary | 0.089 | 0.013 | 0.102 | |
| exportMat | 1.299 | 2.774 | 4.099 | |
| exportStats | 0.441 | 0.018 | 0.460 | |
| extractMR | 0.942 | 1.100 | 2.054 | |
| filterData | 0.154 | 0.018 | 0.174 | |
| fitDO | 0.468 | 0.020 | 3.195 | |
| fitFeatureModel | 1.109 | 0.057 | 1.172 | |
| fitLogNormal | 1.876 | 0.261 | 2.162 | |
| fitMultipleTimeSeries | 1.710 | 0.208 | 1.930 | |
| fitPA | 0.629 | 0.071 | 3.410 | |
| fitSSTimeSeries | 0.415 | 0.028 | 0.445 | |
| fitTimeSeries | 0.412 | 0.036 | 0.449 | |
| fitZig | 1.676 | 0.173 | 1.860 | |
| libSize-set | 0.336 | 0.062 | 0.399 | |
| libSize | 0.344 | 0.019 | 0.365 | |
| loadBiom | 0.045 | 0.001 | 0.047 | |
| loadMeta | 0.020 | 0.002 | 0.023 | |
| loadMetaQ | 0.000 | 0.000 | 0.001 | |
| loadPhenoData | 0.008 | 0.001 | 0.010 | |
| makeLabels | 0 | 0 | 0 | |
| mergeMRexperiments | 1.571 | 0.200 | 1.786 | |
| newMRexperiment | 0.033 | 0.000 | 0.033 | |
| normFactors-set | 0.381 | 0.037 | 0.429 | |
| normFactors | 0.337 | 0.008 | 0.346 | |
| plotBubble | 0.273 | 0.018 | 2.775 | |
| plotClassTimeSeries | 0.956 | 0.226 | 1.190 | |
| plotCorr | 0.438 | 0.025 | 0.466 | |
| plotFeature | 0.147 | 0.014 | 0.161 | |
| plotGenus | 0.140 | 0.020 | 0.161 | |
| plotMRheatmap | 1.798 | 0.080 | 1.887 | |
| plotOTU | 0.135 | 0.013 | 0.149 | |
| plotOrd | 0.247 | 0.024 | 0.274 | |
| plotRare | 0.126 | 0.011 | 0.138 | |
| plotTimeSeries | 0.940 | 0.238 | 1.183 | |
| posteriorProbs | 1.669 | 0.268 | 1.944 | |
| returnAppropriateObj | 0.297 | 0.014 | 0.312 | |
| ssFit | 0.000 | 0.000 | 0.001 | |
| ssIntervalCandidate | 0 | 0 | 0 | |
| ssPerm | 0 | 0 | 0 | |
| ssPermAnalysis | 0.000 | 0.001 | 0.000 | |
| trapz | 0.000 | 0.001 | 0.001 | |
| ts2MRexperiment | 1.627 | 0.256 | 1.893 | |
| uniqueFeatures | 0.112 | 0.011 | 0.122 | |
| wrenchNorm | 13.138 | 1.276 | 14.536 | |
| zigControl | 0.000 | 0.001 | 0.000 | |