Package: metabomxtr Version: 1.44.0 Command: /Library/Frameworks/R.framework/Resources/bin/R CMD INSTALL metabomxtr StartedAt: 2025-11-10 15:06:48 -0500 (Mon, 10 Nov 2025) EndedAt: 2025-11-10 15:06:53 -0500 (Mon, 10 Nov 2025) EllapsedTime: 4.5 seconds RetCode: 0 Status: OK