Package: metabomxtr Version: 1.44.0 Command: rm -rf metabomxtr.buildbin-libdir && mkdir metabomxtr.buildbin-libdir && /Users/biocbuild/BBS/utils/build-universal.sh metabomxtr_1.44.0.tar.gz /Library/Frameworks/R.framework/Resources/bin/R metabomxtr.buildbin-libdir StartedAt: 2025-11-10 23:26:04 -0500 (Mon, 10 Nov 2025) EndedAt: 2025-11-10 23:26:09 -0500 (Mon, 10 Nov 2025) EllapsedTime: 5.1 seconds RetCode: 0 Status: OK PackageFile: metabomxtr_1.44.0.tgz PackageFileSize: 651.7 KiB