Package: metabCombiner Version: 1.20.0 Command: rm -rf metabCombiner.buildbin-libdir && mkdir metabCombiner.buildbin-libdir && /Users/biocbuild/BBS/utils/build-universal.sh metabCombiner_1.20.0.tar.gz /Library/Frameworks/R.framework/Resources/bin/R metabCombiner.buildbin-libdir StartedAt: 2025-11-04 01:48:35 -0500 (Tue, 04 Nov 2025) EndedAt: 2025-11-04 01:49:09 -0500 (Tue, 04 Nov 2025) EllapsedTime: 33.3 seconds RetCode: 0 Status: OK PackageFile: metabCombiner_1.20.0.tgz PackageFileSize: 2.936 MiB