Package: metabCombiner Version: 1.20.0 Command: /Library/Frameworks/R.framework/Resources/bin/R CMD INSTALL metabCombiner StartedAt: 2025-11-03 15:06:40 -0500 (Mon, 03 Nov 2025) EndedAt: 2025-11-03 15:06:48 -0500 (Mon, 03 Nov 2025) EllapsedTime: 8.0 seconds RetCode: 0 Status: OK