Package: metabCombiner Version: 1.20.0 Command: rm -rf metabCombiner.buildbin-libdir && mkdir metabCombiner.buildbin-libdir && /Users/biocbuild/BBS/utils/build-universal.sh metabCombiner_1.20.0.tar.gz /Library/Frameworks/R.framework/Resources/bin/R metabCombiner.buildbin-libdir StartedAt: 2025-11-02 23:10:48 -0500 (Sun, 02 Nov 2025) EndedAt: 2025-11-02 23:10:56 -0500 (Sun, 02 Nov 2025) EllapsedTime: 8.1 seconds RetCode: 0 Status: OK PackageFile: metabCombiner_1.20.0.tgz PackageFileSize: 2.941 MiB