Package: metaSeq Version: 1.50.0 Command: /home/biocbuild/bbs-3.22-bioc/R/bin/R CMD INSTALL metaSeq StartedAt: 2025-11-16 15:14:30 -0500 (Sun, 16 Nov 2025) EndedAt: 2025-11-16 15:14:37 -0500 (Sun, 16 Nov 2025) EllapsedTime: 6.1 seconds RetCode: 0 Status: OK