Package: metaSeq Version: 1.50.0 Command: /home/biocbuild/bbs-3.22-bioc/R/bin/R CMD build --keep-empty-dirs --no-resave-data --md5 metaSeq StartedAt: 2025-11-16 18:41:40 -0500 (Sun, 16 Nov 2025) EndedAt: 2025-11-16 18:41:53 -0500 (Sun, 16 Nov 2025) EllapsedTime: 13.0 seconds RetCode: 0 Status: OK PackageFile: metaSeq_1.50.0.tar.gz PackageFileSize: 6.2 MiB