Package: messina Version: 1.46.0 Command: /home/biocbuild/bbs-3.22-bioc/R/bin/R CMD INSTALL messina StartedAt: 2025-11-02 15:14:10 -0500 (Sun, 02 Nov 2025) EndedAt: 2025-11-02 15:14:59 -0500 (Sun, 02 Nov 2025) EllapsedTime: 48.5 seconds RetCode: 0 Status: OK