Package: meshr Version: 2.15.0 Command: /home/biocbuild/bbs-3.22-bioc/R/bin/R CMD INSTALL meshr StartedAt: 2025-10-28 15:29:39 -0400 (Tue, 28 Oct 2025) EndedAt: 2025-10-28 15:29:59 -0400 (Tue, 28 Oct 2025) EllapsedTime: 20.2 seconds RetCode: 0 Status: OK