Package: meshr Version: 2.16.0 Command: /Library/Frameworks/R.framework/Resources/bin/R CMD INSTALL meshr StartedAt: 2025-11-10 15:10:04 -0500 (Mon, 10 Nov 2025) EndedAt: 2025-11-10 15:10:13 -0500 (Mon, 10 Nov 2025) EllapsedTime: 8.7 seconds RetCode: 0 Status: OK