Package: meshr Version: 2.16.0 Command: /Library/Frameworks/R.framework/Resources/bin/R CMD build --keep-empty-dirs --no-resave-data meshr StartedAt: 2025-11-10 16:55:49 -0500 (Mon, 10 Nov 2025) EndedAt: 2025-11-10 16:55:59 -0500 (Mon, 10 Nov 2025) EllapsedTime: 10.1 seconds RetCode: 0 Status: OK PackageFile: meshr_2.16.0.tar.gz PackageFileSize: 1002 KiB