Package: mapscape Version: 1.34.0 Command: /home/biocbuild/bbs-3.22-bioc/R/bin/R CMD INSTALL mapscape StartedAt: 2025-11-09 15:06:46 -0500 (Sun, 09 Nov 2025) EndedAt: 2025-11-09 15:07:26 -0500 (Sun, 09 Nov 2025) EllapsedTime: 39.8 seconds RetCode: 0 Status: OK