Package: mapscape Version: 1.34.0 Command: /home/biocbuild/bbs-3.22-bioc/R/bin/R CMD build --keep-empty-dirs --no-resave-data --md5 mapscape StartedAt: 2025-11-09 18:30:50 -0500 (Sun, 09 Nov 2025) EndedAt: 2025-11-09 18:31:00 -0500 (Sun, 09 Nov 2025) EllapsedTime: 10.0 seconds RetCode: 0 Status: OK PackageFile: mapscape_1.34.0.tar.gz PackageFileSize: 4.794 MiB