Package: magpie Version: 1.10.0 Command: /home/biocbuild/bbs-3.22-bioc/R/bin/R CMD INSTALL magpie StartedAt: 2025-11-16 15:41:41 -0500 (Sun, 16 Nov 2025) EndedAt: 2025-11-16 15:42:24 -0500 (Sun, 16 Nov 2025) EllapsedTime: 43.6 seconds RetCode: 0 Status: OK