Package: magpie Version: 1.10.0 Command: /home/biocbuild/bbs-3.22-bioc/R/bin/R CMD build --keep-empty-dirs --no-resave-data --md5 magpie StartedAt: 2025-11-16 18:33:30 -0500 (Sun, 16 Nov 2025) EndedAt: 2025-11-16 18:34:26 -0500 (Sun, 16 Nov 2025) EllapsedTime: 56.1 seconds RetCode: 0 Status: OK PackageFile: magpie_1.10.0.tar.gz PackageFileSize: 2.249 MiB