Package: maSigPro Version: 1.82.0 Command: /home/biocbuild/bbs-3.22-bioc/R/bin/R CMD INSTALL maSigPro StartedAt: 2025-11-17 17:11:47 -0500 (Mon, 17 Nov 2025) EndedAt: 2025-11-17 17:11:51 -0500 (Mon, 17 Nov 2025) EllapsedTime: 4.2 seconds RetCode: 0 Status: OK