Package: maSigPro Version: 1.82.0 Command: /home/biocbuild/bbs-3.22-bioc/R/bin/R CMD build --keep-empty-dirs --no-resave-data --md5 maSigPro StartedAt: 2025-11-17 21:50:24 -0500 (Mon, 17 Nov 2025) EndedAt: 2025-11-17 21:50:32 -0500 (Mon, 17 Nov 2025) EllapsedTime: 8.0 seconds RetCode: 0 Status: OK PackageFile: maSigPro_1.82.0.tar.gz PackageFileSize: 1.514 MiB