Package: maPredictDSC Version: 1.48.0 Command: /Library/Frameworks/R.framework/Resources/bin/R CMD INSTALL maPredictDSC StartedAt: 2025-11-10 15:09:11 -0500 (Mon, 10 Nov 2025) EndedAt: 2025-11-10 15:09:21 -0500 (Mon, 10 Nov 2025) EllapsedTime: 10.0 seconds RetCode: 0 Status: OK