Package: maPredictDSC Version: 1.48.0 Command: /Library/Frameworks/R.framework/Resources/bin/R CMD build --keep-empty-dirs --no-resave-data maPredictDSC StartedAt: 2025-11-10 16:52:55 -0500 (Mon, 10 Nov 2025) EndedAt: 2025-11-10 16:53:31 -0500 (Mon, 10 Nov 2025) EllapsedTime: 36.4 seconds RetCode: 0 Status: OK PackageFile: maPredictDSC_1.48.0.tar.gz PackageFileSize: 197.6 KiB