Package: maCorrPlot Version: 1.79.0 Command: /home/biocbuild/bbs-3.22-bioc/R/bin/R CMD build --keep-empty-dirs --no-resave-data --md5 maCorrPlot StartedAt: 2025-10-24 18:34:41 -0400 (Fri, 24 Oct 2025) EndedAt: 2025-10-24 18:34:50 -0400 (Fri, 24 Oct 2025) EllapsedTime: 9.0 seconds RetCode: 0 Status: OK PackageFile: maCorrPlot_1.79.0.tar.gz PackageFileSize: 1.266 MiB