Package: mCSEA Version: 1.30.0 Command: /home/biocbuild/bbs-3.22-bioc/R/bin/R CMD INSTALL mCSEA StartedAt: 2025-11-03 16:01:54 -0500 (Mon, 03 Nov 2025) EndedAt: 2025-11-03 16:02:35 -0500 (Mon, 03 Nov 2025) EllapsedTime: 40.4 seconds RetCode: 0 Status: OK