Package: mBPCR Version: 1.63.0 Command: /home/biocbuild/bbs-3.22-bioc/R/bin/R CMD INSTALL mBPCR StartedAt: 2025-10-24 15:31:11 -0400 (Fri, 24 Oct 2025) EndedAt: 2025-10-24 15:31:42 -0400 (Fri, 24 Oct 2025) EllapsedTime: 30.8 seconds RetCode: 0 Status: OK