Package: m6Aboost Version: 1.16.0 Command: /Library/Frameworks/R.framework/Resources/bin/R CMD build --keep-empty-dirs --no-resave-data m6Aboost StartedAt: 2025-11-04 16:52:15 -0500 (Tue, 04 Nov 2025) EndedAt: 2025-11-04 16:52:46 -0500 (Tue, 04 Nov 2025) EllapsedTime: 31.4 seconds RetCode: 0 Status: OK PackageFile: m6Aboost_1.16.0.tar.gz PackageFileSize: 759.6 KiB