Package: m6Aboost Version: 1.16.0 Command: rm -rf m6Aboost.buildbin-libdir && mkdir m6Aboost.buildbin-libdir && /Users/biocbuild/BBS/utils/build-universal.sh m6Aboost_1.16.0.tar.gz /Library/Frameworks/R.framework/Resources/bin/R m6Aboost.buildbin-libdir StartedAt: 2025-11-02 23:10:02 -0500 (Sun, 02 Nov 2025) EndedAt: 2025-11-02 23:10:21 -0500 (Sun, 02 Nov 2025) EllapsedTime: 19.4 seconds RetCode: 0 Status: OK PackageFile: m6Aboost_1.16.0.tgz PackageFileSize: 574.9 KiB