Package: lute Version: 1.6.0 Command: /home/biocbuild/bbs-3.22-bioc/R/bin/R CMD build --keep-empty-dirs --no-resave-data --md5 lute StartedAt: 2025-11-09 18:28:25 -0500 (Sun, 09 Nov 2025) EndedAt: 2025-11-09 18:29:15 -0500 (Sun, 09 Nov 2025) EllapsedTime: 50.0 seconds RetCode: 0 Status: OK PackageFile: lute_1.6.0.tar.gz PackageFileSize: 2.283 MiB