Package: logicFS Version: 2.29.0 Command: /home/biocbuild/bbs-3.22-bioc/R/bin/R CMD build --keep-empty-dirs --no-resave-data --md5 logicFS StartedAt: 2025-10-24 18:33:25 -0400 (Fri, 24 Oct 2025) EndedAt: 2025-10-24 18:33:38 -0400 (Fri, 24 Oct 2025) EllapsedTime: 13.0 seconds RetCode: 0 Status: OK PackageFile: logicFS_2.29.0.tar.gz PackageFileSize: 264.1 KiB