Package: logicFS Version: 2.30.0 Command: /Library/Frameworks/R.framework/Resources/bin/R CMD INSTALL logicFS StartedAt: 2025-11-03 15:12:05 -0500 (Mon, 03 Nov 2025) EndedAt: 2025-11-03 15:12:44 -0500 (Mon, 03 Nov 2025) EllapsedTime: 38.4 seconds RetCode: 0 Status: OK