Package: logicFS Version: 2.30.0 Command: /Library/Frameworks/R.framework/Resources/bin/R CMD build --keep-empty-dirs --no-resave-data logicFS StartedAt: 2025-11-03 17:34:13 -0500 (Mon, 03 Nov 2025) EndedAt: 2025-11-03 17:34:33 -0500 (Mon, 03 Nov 2025) EllapsedTime: 19.4 seconds RetCode: 0 Status: OK PackageFile: logicFS_2.30.0.tar.gz PackageFileSize: 259.6 KiB