Package: logicFS Version: 2.29.0 Command: /Library/Frameworks/R.framework/Resources/bin/R CMD INSTALL logicFS StartedAt: 2025-10-26 15:03:06 -0400 (Sun, 26 Oct 2025) EndedAt: 2025-10-26 15:03:11 -0400 (Sun, 26 Oct 2025) EllapsedTime: 5.0 seconds RetCode: 0 Status: OK