Package: lisaClust Version: 1.18.0 Command: /home/biocbuild/bbs-3.22-bioc/R/bin/R CMD INSTALL lisaClust StartedAt: 2025-11-06 15:36:26 -0500 (Thu, 06 Nov 2025) EndedAt: 2025-11-06 15:36:53 -0500 (Thu, 06 Nov 2025) EllapsedTime: 27.8 seconds RetCode: 0 Status: OK