Package: linkSet Version: 0.99.19 Command: /home/biocbuild/bbs-3.22-bioc/R/bin/R CMD INSTALL linkSet StartedAt: 2025-10-24 15:54:17 -0400 (Fri, 24 Oct 2025) EndedAt: 2025-10-24 15:54:59 -0400 (Fri, 24 Oct 2025) EllapsedTime: 42.6 seconds RetCode: 0 Status: OK