Package: linkSet Version: 1.0.0 Command: /Library/Frameworks/R.framework/Resources/bin/R CMD INSTALL linkSet StartedAt: 2025-11-10 15:22:43 -0500 (Mon, 10 Nov 2025) EndedAt: 2025-11-10 15:23:00 -0500 (Mon, 10 Nov 2025) EllapsedTime: 17.4 seconds RetCode: 0 Status: OK