Package: linkSet Version: 1.0.0 Command: /Library/Frameworks/R.framework/Resources/bin/R CMD build --keep-empty-dirs --no-resave-data linkSet StartedAt: 2025-11-10 16:51:08 -0500 (Mon, 10 Nov 2025) EndedAt: 2025-11-10 16:51:36 -0500 (Mon, 10 Nov 2025) EllapsedTime: 28.3 seconds RetCode: 1 Status: ERROR PackageFile: None PackageFileSize: NA