Package: limmaGUI Version: 1.86.0 Command: /Library/Frameworks/R.framework/Resources/bin/R CMD build --keep-empty-dirs --no-resave-data limmaGUI StartedAt: 2025-11-10 16:50:54 -0500 (Mon, 10 Nov 2025) EndedAt: 2025-11-10 16:51:05 -0500 (Mon, 10 Nov 2025) EllapsedTime: 11.1 seconds RetCode: 0 Status: OK PackageFile: limmaGUI_1.86.0.tar.gz PackageFileSize: 5.346 MiB