Package: levi Version: 1.28.0 Command: /home/biocbuild/bbs-3.22-bioc/R/bin/R CMD INSTALL levi StartedAt: 2025-11-13 15:10:41 -0500 (Thu, 13 Nov 2025) EndedAt: 2025-11-13 15:10:58 -0500 (Thu, 13 Nov 2025) EllapsedTime: 17.5 seconds RetCode: 0 Status: OK